BEGIN:VCALENDAR
VERSION:2.0
PRODID:-//BSV Leimen - ECPv6.15.20//NONSGML v1.0//EN
CALSCALE:GREGORIAN
METHOD:PUBLISH
X-WR-CALNAME:BSV Leimen
X-ORIGINAL-URL:https://bsvleimen.de
X-WR-CALDESC:Veranstaltungen für BSV Leimen
REFRESH-INTERVAL;VALUE=DURATION:PT1H
X-Robots-Tag:noindex
X-PUBLISHED-TTL:PT1H
BEGIN:VTIMEZONE
TZID:Europe/Berlin
BEGIN:DAYLIGHT
TZOFFSETFROM:+0100
TZOFFSETTO:+0200
TZNAME:CEST
DTSTART:20250330T010000
END:DAYLIGHT
BEGIN:STANDARD
TZOFFSETFROM:+0200
TZOFFSETTO:+0100
TZNAME:CET
DTSTART:20251026T010000
END:STANDARD
BEGIN:DAYLIGHT
TZOFFSETFROM:+0100
TZOFFSETTO:+0200
TZNAME:CEST
DTSTART:20260329T010000
END:DAYLIGHT
BEGIN:STANDARD
TZOFFSETFROM:+0200
TZOFFSETTO:+0100
TZNAME:CET
DTSTART:20261025T010000
END:STANDARD
BEGIN:DAYLIGHT
TZOFFSETFROM:+0100
TZOFFSETTO:+0200
TZNAME:CEST
DTSTART:20270328T010000
END:DAYLIGHT
BEGIN:STANDARD
TZOFFSETFROM:+0200
TZOFFSETTO:+0100
TZNAME:CET
DTSTART:20271031T010000
END:STANDARD
END:VTIMEZONE
BEGIN:VEVENT
DTSTART;TZID=Europe/Berlin:20260911T080000
DTEND;TZID=Europe/Berlin:20260917T170000
DTSTAMP:20260422T192652
CREATED:20260223T073337Z
LAST-MODIFIED:20260223T073337Z
UID:22347-1789113600-1789664400@bsvleimen.de
SUMMARY:International Mastercup
DESCRIPTION:Liebe Sportfreundinnen und Sportfreunde\,\nin diesem Jahr findet wieder in Suhl der INTERNATIONAL MASTERSCUP statt.  Die Neuauflage ist vom 11. bis 17. September 2026 geplant. Für 2026 ist eine Erweiterung des Wettbewerbsangebots geplant. Neben den bisherigen Disziplinen (Luftgewehr Auflage\, KK-Gewehr Auflage\, Luftpistole Auflage\, Sportpistole Auflage\, KK-Liegend\, Sportpistole sowie Flinte Trap) werden zusätzlich Luftgewehr und Luftpistole (freistehend) angeboten.\nDie Zielgruppe bleibt: Schützinnen und Schützen ab 51 Jahren. \nwww.tsbev.de/masters
URL:https://bsvleimen.de/event/international-mastercup/
LOCATION:Suhl\, Schützenstraße 6\, Suhl\, 98527
CATEGORIES:Wettkämpfe
END:VEVENT
END:VCALENDAR