BEGIN:VCALENDAR
VERSION:2.0
PRODID:-//BSV Leimen - ECPv6.15.20//NONSGML v1.0//EN
CALSCALE:GREGORIAN
METHOD:PUBLISH
X-ORIGINAL-URL:https://bsvleimen.de
X-WR-CALDESC:Veranstaltungen für BSV Leimen
REFRESH-INTERVAL;VALUE=DURATION:PT1H
X-Robots-Tag:noindex
X-PUBLISHED-TTL:PT1H
BEGIN:VTIMEZONE
TZID:Europe/Berlin
BEGIN:DAYLIGHT
TZOFFSETFROM:+0100
TZOFFSETTO:+0200
TZNAME:CEST
DTSTART:20250330T010000
END:DAYLIGHT
BEGIN:STANDARD
TZOFFSETFROM:+0200
TZOFFSETTO:+0100
TZNAME:CET
DTSTART:20251026T010000
END:STANDARD
BEGIN:DAYLIGHT
TZOFFSETFROM:+0100
TZOFFSETTO:+0200
TZNAME:CEST
DTSTART:20260329T010000
END:DAYLIGHT
BEGIN:STANDARD
TZOFFSETFROM:+0200
TZOFFSETTO:+0100
TZNAME:CET
DTSTART:20261025T010000
END:STANDARD
BEGIN:DAYLIGHT
TZOFFSETFROM:+0100
TZOFFSETTO:+0200
TZNAME:CEST
DTSTART:20270328T010000
END:DAYLIGHT
BEGIN:STANDARD
TZOFFSETFROM:+0200
TZOFFSETTO:+0100
TZNAME:CET
DTSTART:20271031T010000
END:STANDARD
END:VTIMEZONE
BEGIN:VEVENT
DTSTART;TZID=Europe/Berlin:20260509T080000
DTEND;TZID=Europe/Berlin:20260509T170000
DTSTAMP:20260422T161648
CREATED:20260223T075017Z
LAST-MODIFIED:20260223T075208Z
UID:22361-1778313600-1778346000@bsvleimen.de
SUMMARY:LM Allgemein
DESCRIPTION:In Pforzheim starten wir mit den Disziplinen: \nLuftpistole\n25m Pistole\nKK Liegend\nAnlage-02-Terminplan-LM-2026-V2.0.pdf
URL:https://bsvleimen.de/event/lm-allgemein/
LOCATION:SG Pforzheim\, Am Kirschenpfad 1\, Pforzheim\, 75181
CATEGORIES:LM BSV
END:VEVENT
BEGIN:VEVENT
DTSTART;TZID=Europe/Berlin:20260509T080000
DTEND;TZID=Europe/Berlin:20260509T170000
DTSTAMP:20260422T161648
CREATED:20260223T075341Z
LAST-MODIFIED:20260223T075341Z
UID:22363-1778313600-1778346000@bsvleimen.de
SUMMARY:LM Allgemein
DESCRIPTION:LM in Sandhofen \nPerkussionsfreigewehr\nPerkussionsdienstgewehr\nSteinschlossgewehr 100m \nAnlage-02-Terminplan-LM-2026-V2.0.pdf
URL:https://bsvleimen.de/event/lm-allgemein-2/
LOCATION:SV 1926 e.V. Mannheim-Sandhofen\, Alter Frankfurter Weg 15\, Mannheim\, 68307
CATEGORIES:LM BSV
END:VEVENT
BEGIN:VEVENT
DTSTART;TZID=Europe/Berlin:20260510T080000
DTEND;TZID=Europe/Berlin:20260510T170000
DTSTAMP:20260422T161648
CREATED:20260223T075758Z
LAST-MODIFIED:20260223T075758Z
UID:22365-1778400000-1778432400@bsvleimen.de
SUMMARY:LM Allgemein
DESCRIPTION:Pforzheim \nSchnellfeuerpistole\n25m Pistole Auflage\n50m Pistole\nKK 3×40 \nAnlage-02-Terminplan-LM-2026-V2.0.pdf
URL:https://bsvleimen.de/event/lm-allgemein-3/
LOCATION:SG Pforzheim\, Am Kirschenpfad 1\, Pforzheim\, 75181
CATEGORIES:LM BSV
END:VEVENT
BEGIN:VEVENT
DTSTART;TZID=Europe/Berlin:20260516T080000
DTEND;TZID=Europe/Berlin:20260516T170000
DTSTAMP:20260422T161648
CREATED:20260223T075943Z
LAST-MODIFIED:20260223T075943Z
UID:22367-1778918400-1778950800@bsvleimen.de
SUMMARY:LM Allgemein
DESCRIPTION:Pforzheim\nLuftgewehr\n25m Pistole 9mm\n25m Revolver .44 Magnum\nKK 3×20 \nAnlage-02-Terminplan-LM-2026-V2.0.pdf
URL:https://bsvleimen.de/event/lm-allgemein-4/
LOCATION:SG Pforzheim\, Am Kirschenpfad 1\, Pforzheim\, 75181
CATEGORIES:LM BSV
END:VEVENT
BEGIN:VEVENT
DTSTART;TZID=Europe/Berlin:20260516T080000
DTEND;TZID=Europe/Berlin:20260516T170000
DTSTAMP:20260422T161648
CREATED:20260223T080113Z
LAST-MODIFIED:20260223T080113Z
UID:22369-1778918400-1778950800@bsvleimen.de
SUMMARY:LM Laufende Scheibe
DESCRIPTION:Walldorf\nLaufende Scheibe 10m\nLaufende Scheibe 10m Mix\nAnlage-02-Terminplan-LM-2026-V2.0.pdf
URL:https://bsvleimen.de/event/lm-laufende-scheibe/
LOCATION:SV Walldorf\, Rennbahnstr. 67\, Walldorf\, 69190
CATEGORIES:LM BSV
END:VEVENT
BEGIN:VEVENT
DTSTART;TZID=Europe/Berlin:20260517T080000
DTEND;TZID=Europe/Berlin:20260517T170000
DTSTAMP:20260422T161648
CREATED:20260223T080243Z
LAST-MODIFIED:20260223T080243Z
UID:22371-1779004800-1779037200@bsvleimen.de
SUMMARY:LM Allgemein
DESCRIPTION:Pforzheim\nLuftgewehr\n25m Revolver .357 Magnum\n25m Pistole .45ACP\nKK 3×20\nAnlage-02-Terminplan-LM-2026-V2.0.pdf
URL:https://bsvleimen.de/event/lm-allgemein-5/
LOCATION:SG Pforzheim\, Am Kirschenpfad 1\, Pforzheim\, 75181
CATEGORIES:LM BSV
END:VEVENT
BEGIN:VEVENT
DTSTART;TZID=Europe/Berlin:20260517T080000
DTEND;TZID=Europe/Berlin:20260517T170000
DTSTAMP:20260422T161648
CREATED:20260223T080344Z
LAST-MODIFIED:20260223T080344Z
UID:22373-1779004800-1779037200@bsvleimen.de
SUMMARY:LM Laufende Scheibe
DESCRIPTION:Laufende Scheibe 50m\nLaufende Scheibe 50m Mix
URL:https://bsvleimen.de/event/lm-laufende-scheibe-2/
LOCATION:SV Walldorf\, Rennbahnstr. 67\, Walldorf\, 69190
CATEGORIES:LM BSV
END:VEVENT
BEGIN:VEVENT
DTSTART;VALUE=DATE:20260521
DTEND;VALUE=DATE:20260522
DTSTAMP:20260422T161648
CREATED:20260223T074552Z
LAST-MODIFIED:20260223T074602Z
UID:22356-1779321600-1779407999@bsvleimen.de
SUMMARY:Meldeschluss LM Sommerbiathlon und Target Sprint
DESCRIPTION:Die Sportler müssen sich über die Kreismeisterschaft jeweils im Einzel- und/oder Massenstart- bzw.\nTarget-Sprint-Wettkampf qualifiziert haben. Die LM-Staffel und die Mannschaftswettbewerbe beim\nTarget-Sprint können nur aus diesen Teilnehmern zusammengestellt werden.\nDie Teilnehmer sind von den Kreisen direkt an sportmeldungen@bsvleimen.de zu melden
URL:https://bsvleimen.de/event/meldeschluss-lm-sommerbiathlon-und-target-sprint/
CATEGORIES:Meldeschluss BSV
END:VEVENT
BEGIN:VEVENT
DTSTART;TZID=Europe/Berlin:20260530T080000
DTEND;TZID=Europe/Berlin:20260530T170000
DTSTAMP:20260422T161648
CREATED:20260223T080609Z
LAST-MODIFIED:20260223T080609Z
UID:22375-1780128000-1780160400@bsvleimen.de
SUMMARY:LM Target Sprint / Sommerbiathlon
DESCRIPTION:St. Leon\nTarget Sprint\nSommerbiathlon / LG & KK \nAnlage-02-Terminplan-LM-2026-V2.0.pdf
URL:https://bsvleimen.de/event/lm-target-sprint-sommerbiathlon/
LOCATION:SV St. Leon
CATEGORIES:LM BSV
END:VEVENT
BEGIN:VEVENT
DTSTART;TZID=Europe/Berlin:20260531T080000
DTEND;TZID=Europe/Berlin:20260531T170000
DTSTAMP:20260422T161648
CREATED:20260223T080710Z
LAST-MODIFIED:20260223T080710Z
UID:22377-1780214400-1780246800@bsvleimen.de
SUMMARY:LM Sommerbiathlon
DESCRIPTION:St. Leon\nSommerbiathlon/Massenstart\nAnlage-02-Terminplan-LM-2026-V2.0.pdf
URL:https://bsvleimen.de/event/lm-sommerbiathlon/
LOCATION:SV St. Leon
CATEGORIES:LM BSV
END:VEVENT
END:VCALENDAR