BEGIN:VCALENDAR
VERSION:2.0
PRODID:-//BSV Leimen - ECPv6.15.20//NONSGML v1.0//EN
CALSCALE:GREGORIAN
METHOD:PUBLISH
X-ORIGINAL-URL:https://bsvleimen.de
X-WR-CALDESC:Veranstaltungen für BSV Leimen
REFRESH-INTERVAL;VALUE=DURATION:PT1H
X-Robots-Tag:noindex
X-PUBLISHED-TTL:PT1H
BEGIN:VTIMEZONE
TZID:UTC
BEGIN:STANDARD
TZOFFSETFROM:+0000
TZOFFSETTO:+0000
TZNAME:UTC
DTSTART:20240101T000000
END:STANDARD
END:VTIMEZONE
BEGIN:VEVENT
DTSTART;VALUE=DATE:20251002
DTEND;VALUE=DATE:20251006
DTSTAMP:20260423T005047
CREATED:20250228T120343Z
LAST-MODIFIED:20250228T120343Z
UID:19594-1759363200-1759708799@bsvleimen.de
SUMMARY:DM Auflage
DESCRIPTION:Hannover
URL:https://bsvleimen.de/event/dm-auflage-2/
CATEGORIES:Allgemein
END:VEVENT
BEGIN:VEVENT
DTSTART;TZID=UTC:20251004T080000
DTEND;TZID=UTC:20251005T170000
DTSTAMP:20260423T005047
CREATED:20250723T071258Z
LAST-MODIFIED:20250723T071258Z
UID:20779-1759564800-1759683600@bsvleimen.de
SUMMARY:1. Bundesliga LP
DESCRIPTION:
URL:https://bsvleimen.de/event/1-bundesliga-lp/
CATEGORIES:Wettkämpfe
END:VEVENT
BEGIN:VEVENT
DTSTART;TZID=UTC:20251005T080000
DTEND;TZID=UTC:20251005T170000
DTSTAMP:20260423T005047
CREATED:20250723T072609Z
LAST-MODIFIED:20250723T072609Z
UID:20832-1759651200-1759683600@bsvleimen.de
SUMMARY:Badische-Jugend-Liga
DESCRIPTION:
URL:https://bsvleimen.de/event/badische-jugend-liga/
CATEGORIES:Wettkämpfe
END:VEVENT
BEGIN:VEVENT
DTSTART;TZID=UTC:20251005T090000
DTEND;TZID=UTC:20251005T170000
DTSTAMP:20260423T005047
CREATED:20250723T053318Z
LAST-MODIFIED:20250723T055317Z
UID:20748-1759654800-1759683600@bsvleimen.de
SUMMARY:Landesturnier B-Liste
DESCRIPTION:In Altlußheim wird folgende Disziplin geschossen: \n1.56.14 Büffelscheibe Unterhebel
URL:https://bsvleimen.de/event/landesturnier-b-liste-4/
LOCATION:SSV Altlußheim\, Am Sportplatzweg 24\, Altlußheim\, 68804\, Germany
CATEGORIES:Wettkämpfe
END:VEVENT
BEGIN:VEVENT
DTSTART;VALUE=DATE:20251011
DTEND;VALUE=DATE:20251012
DTSTAMP:20260423T005047
CREATED:20250228T120343Z
LAST-MODIFIED:20250228T120343Z
UID:19596-1760140800-1760227199@bsvleimen.de
SUMMARY:Endkampf GK Rangliste
DESCRIPTION:
URL:https://bsvleimen.de/event/endkampf-gk-rangliste/
CATEGORIES:Allgemein
END:VEVENT
BEGIN:VEVENT
DTSTART;TZID=UTC:20251011T080000
DTEND;TZID=UTC:20251012T170000
DTSTAMP:20260423T005047
CREATED:20250723T070557Z
LAST-MODIFIED:20250723T070810Z
UID:20762-1760169600-1760288400@bsvleimen.de
SUMMARY:1. Bundesliga LG
DESCRIPTION:
URL:https://bsvleimen.de/event/1-bundesliga-lg/
CATEGORIES:Wettkämpfe
END:VEVENT
BEGIN:VEVENT
DTSTART;TZID=UTC:20251011T093000
DTEND;TZID=UTC:20251011T170000
DTSTAMP:20260423T005047
CREATED:20250723T053056Z
LAST-MODIFIED:20250723T053056Z
UID:20744-1760175000-1760202000@bsvleimen.de
SUMMARY:Landesturnier B-Liste
DESCRIPTION:In Sandhausen werden folgende Disziplinen geschossen: \nBD 2.51.03 Dienstpistole\nBD 2.53.02 Speed (KW\, PCC\, AS)
URL:https://bsvleimen.de/event/landesturnier-b-liste-2/
LOCATION:SSV Sandhausen\, Lattweg 67\, Sandhausen\, 69207\, Germany
CATEGORIES:Wettkämpfe
END:VEVENT
BEGIN:VEVENT
DTSTART;TZID=UTC:20251011T093000
DTEND;TZID=UTC:20251011T170000
DTSTAMP:20260423T005047
CREATED:20250723T053421Z
LAST-MODIFIED:20250723T055307Z
UID:20750-1760175000-1760202000@bsvleimen.de
SUMMARY:Landesturnier B-Liste
DESCRIPTION:In Laudenbach wird folgende Disziplin geschossen: \n1.92.20.1 KK ZF 100m aufgelegt
URL:https://bsvleimen.de/event/landesturnier-b-liste-5/
LOCATION:SSV Laudenbach\, Dr.-Werner-Freyberg-Straße 1\, Laudenbach\, 69514\, Germany
CATEGORIES:Wettkämpfe
END:VEVENT
BEGIN:VEVENT
DTSTART;VALUE=DATE:20251012
DTEND;VALUE=DATE:20251013
DTSTAMP:20260423T005047
CREATED:20250228T120342Z
LAST-MODIFIED:20250228T120342Z
UID:19598-1760227200-1760313599@bsvleimen.de
SUMMARY:3. Ranglistenwettkampf Vorderlader Flinte
DESCRIPTION:
URL:https://bsvleimen.de/event/3-ranglistenwettkampf-vorderlader-flinte/
LOCATION:SG Pforzheim\, Am Kirschenpfad 1\, Pforzheim\, 75181
CATEGORIES:Allgemein
END:VEVENT
BEGIN:VEVENT
DTSTART;TZID=UTC:20251012T080000
DTEND;TZID=UTC:20251012T170000
DTSTAMP:20260423T005047
CREATED:20250723T071641Z
LAST-MODIFIED:20250723T071641Z
UID:20791-1760256000-1760288400@bsvleimen.de
SUMMARY:2. Bundesliga LG
DESCRIPTION:
URL:https://bsvleimen.de/event/2-bundesliga-lg/
CATEGORIES:Wettkämpfe
END:VEVENT
BEGIN:VEVENT
DTSTART;TZID=UTC:20251012T093000
DTEND;TZID=UTC:20251012T170000
DTSTAMP:20260423T005047
CREATED:20250723T054457Z
LAST-MODIFIED:20250723T054457Z
UID:20754-1760261400-1760288400@bsvleimen.de
SUMMARY:Landesturnier B-Liste
DESCRIPTION:In Laudenbach wird folgende Disziplin geschossen: \n1.92.10 Zentralfeuer Selbstladegewehr 100m
URL:https://bsvleimen.de/event/landesturnier-b-liste-7/
LOCATION:SSV Laudenbach\, Dr.-Werner-Freyberg-Straße 1\, Laudenbach\, 69514\, Germany
CATEGORIES:Wettkämpfe
END:VEVENT
BEGIN:VEVENT
DTSTART;TZID=UTC:20251018T080000
DTEND;TZID=UTC:20251019T170000
DTSTAMP:20260423T005047
CREATED:20250723T071323Z
LAST-MODIFIED:20250723T071323Z
UID:20781-1760774400-1760893200@bsvleimen.de
SUMMARY:1. Bundesliga LP
DESCRIPTION:
URL:https://bsvleimen.de/event/1-bundesliga-lp-2/
CATEGORIES:Wettkämpfe
END:VEVENT
BEGIN:VEVENT
DTSTART;TZID=UTC:20251018T093000
DTEND;TZID=UTC:20251018T170000
DTSTAMP:20260423T005047
CREATED:20250723T053208Z
LAST-MODIFIED:20250723T055248Z
UID:20746-1760779800-1760806800@bsvleimen.de
SUMMARY:Landesturnier B-Liste
DESCRIPTION:In Külsheim werden folgende Disziplinen geschossen: \nBD 2.41.01 SpoPi beidhändig\nBD 2.53.01 GK Pistole/Revolver\nBD 2.52.03 Dienstrevolver\nBD 2.53.02 Speed (KW\, PCC\, AS)
URL:https://bsvleimen.de/event/landesturnier-b-liste-3/
LOCATION:KKS Külsheim\, Am Heidelberg 1\, Külsheim\, 97900\, Germany
CATEGORIES:Wettkämpfe
END:VEVENT
BEGIN:VEVENT
DTSTART;TZID=UTC:20251018T093000
DTEND;TZID=UTC:20251018T170000
DTSTAMP:20260423T005047
CREATED:20250723T054631Z
LAST-MODIFIED:20250723T054631Z
UID:20756-1760779800-1760806800@bsvleimen.de
SUMMARY:Landesturnier B-Liste
DESCRIPTION:In Laudenbach wird folgende Disziplin geschossen: \n1.92.18 Zielfernrohrgewehr GK 100m
URL:https://bsvleimen.de/event/landesturnier-b-liste-8/
LOCATION:SSV Laudenbach\, Dr.-Werner-Freyberg-Straße 1\, Laudenbach\, 69514\, Germany
CATEGORIES:Wettkämpfe
END:VEVENT
BEGIN:VEVENT
DTSTART;TZID=UTC:20251019T080000
DTEND;TZID=UTC:20251019T170000
DTSTAMP:20260423T005047
CREATED:20250723T071946Z
LAST-MODIFIED:20250723T071946Z
UID:20802-1760860800-1760893200@bsvleimen.de
SUMMARY:2. Bundesliga LP
DESCRIPTION:
URL:https://bsvleimen.de/event/2-bundesliga-lp/
CATEGORIES:Wettkämpfe
END:VEVENT
BEGIN:VEVENT
DTSTART;VALUE=DATE:20251025
DTEND;VALUE=DATE:20251026
DTSTAMP:20260423T005047
CREATED:20250228T120342Z
LAST-MODIFIED:20250228T120342Z
UID:19602-1761350400-1761436799@bsvleimen.de
SUMMARY:Endkampf Vorderladerschießen Kreisvergleichskämpfe
DESCRIPTION:
URL:https://bsvleimen.de/event/endkampf-vorderladerschiessen-kreisvergleichskaempfe/
LOCATION:SSV Hemsbach 1926 e.V.\, An d. Weide 4\, Hemsbach\, 69502\, Germany
CATEGORIES:Allgemein
END:VEVENT
BEGIN:VEVENT
DTSTART;VALUE=DATE:20251025
DTEND;VALUE=DATE:20251027
DTSTAMP:20260423T005047
CREATED:20250228T120342Z
LAST-MODIFIED:20250228T120342Z
UID:19600-1761350400-1761523199@bsvleimen.de
SUMMARY:DM Auflage
DESCRIPTION:
URL:https://bsvleimen.de/event/dm-auflage/
CATEGORIES:Allgemein
END:VEVENT
BEGIN:VEVENT
DTSTART;TZID=UTC:20251025T080000
DTEND;TZID=UTC:20251025T170000
DTSTAMP:20260423T005047
CREATED:20250723T072633Z
LAST-MODIFIED:20250723T072633Z
UID:20834-1761379200-1761411600@bsvleimen.de
SUMMARY:Badische-Jugend-Liga
DESCRIPTION:
URL:https://bsvleimen.de/event/badische-jugend-liga-2/
CATEGORIES:Wettkämpfe
END:VEVENT
BEGIN:VEVENT
DTSTART;TZID=UTC:20251025T080000
DTEND;TZID=UTC:20251026T170000
DTSTAMP:20260423T005047
CREATED:20250723T070657Z
LAST-MODIFIED:20250723T070839Z
UID:20764-1761379200-1761498000@bsvleimen.de
SUMMARY:1. Bundesliga LG
DESCRIPTION:
URL:https://bsvleimen.de/event/1-bundesliga-lg-2/
CATEGORIES:Wettkämpfe
END:VEVENT
BEGIN:VEVENT
DTSTART;TZID=UTC:20251026T080000
DTEND;TZID=UTC:20251026T170000
DTSTAMP:20260423T005047
CREATED:20250723T072140Z
LAST-MODIFIED:20250723T072140Z
UID:20810-1761465600-1761498000@bsvleimen.de
SUMMARY:Oberliga LP/LG Wettkampf 1+2
DESCRIPTION:
URL:https://bsvleimen.de/event/oberliga-lp-lg-wettkampf-12/
CATEGORIES:Wettkämpfe
END:VEVENT
BEGIN:VEVENT
DTSTART;TZID=UTC:20251031T080000
DTEND;TZID=UTC:20251102T170000
DTSTAMP:20260423T005047
CREATED:20250228T120342Z
LAST-MODIFIED:20250228T120342Z
UID:19604-1761897600-1762102800@bsvleimen.de
SUMMARY:DM Blasrohr
DESCRIPTION:
URL:https://bsvleimen.de/event/dm-blasrohr/
CATEGORIES:Allgemein
END:VEVENT
END:VCALENDAR