BEGIN:VCALENDAR
VERSION:2.0
PRODID:-//BSV Leimen - ECPv6.15.20//NONSGML v1.0//EN
CALSCALE:GREGORIAN
METHOD:PUBLISH
X-ORIGINAL-URL:https://bsvleimen.de
X-WR-CALDESC:Veranstaltungen für BSV Leimen
REFRESH-INTERVAL;VALUE=DURATION:PT1H
X-Robots-Tag:noindex
X-PUBLISHED-TTL:PT1H
BEGIN:VTIMEZONE
TZID:UTC
BEGIN:STANDARD
TZOFFSETFROM:+0000
TZOFFSETTO:+0000
TZNAME:UTC
DTSTART:20240101T000000
END:STANDARD
END:VTIMEZONE
BEGIN:VEVENT
DTSTART;VALUE=DATE:20250902
DTEND;VALUE=DATE:20250903
DTSTAMP:20260423T040435
CREATED:20250228T120344Z
LAST-MODIFIED:20250228T120344Z
UID:19572-1756771200-1756857599@bsvleimen.de
SUMMARY:Meldeschluss DM Auflage
DESCRIPTION:Meldungen an den DSB
URL:https://bsvleimen.de/event/meldeschluss-dm-auflage/
LOCATION:BSV-Geschäftsstelle\, Badener Platz 2\, Leimen\, 69181\, Germany
CATEGORIES:Allgemein
END:VEVENT
BEGIN:VEVENT
DTSTART;VALUE=DATE:20250906
DTEND;VALUE=DATE:20250907
DTSTAMP:20260423T040435
CREATED:20250228T120344Z
LAST-MODIFIED:20250228T120344Z
UID:19574-1757116800-1757203199@bsvleimen.de
SUMMARY:Seniorenschießen LG/LP Auflage
DESCRIPTION:
URL:https://bsvleimen.de/event/seniorenschiessen-lg-lp-auflage/
LOCATION:SV Ettlingen\, Alte Steige 22\, Ettlingen\, 76275\, Germany
CATEGORIES:Allgemein
END:VEVENT
BEGIN:VEVENT
DTSTART;VALUE=DATE:20250909
DTEND;VALUE=DATE:20250910
DTSTAMP:20260423T040435
CREATED:20250228T120343Z
LAST-MODIFIED:20250228T120343Z
UID:19579-1757376000-1757462399@bsvleimen.de
SUMMARY:4. Ergebnismeldung Rangliste GK RWK-Onlinemelder
DESCRIPTION:
URL:https://bsvleimen.de/event/4-ergebnismeldung-rangliste-gk-rwk-onlinemelder/
LOCATION:BSV-Geschäftsstelle\, Badener Platz 2\, Leimen\, 69181\, Germany
CATEGORIES:Allgemein
END:VEVENT
BEGIN:VEVENT
DTSTART;VALUE=DATE:20250910
DTEND;VALUE=DATE:20250911
DTSTAMP:20260423T040435
CREATED:20250228T120343Z
LAST-MODIFIED:20250228T120343Z
UID:19581-1757462400-1757548799@bsvleimen.de
SUMMARY:2. Meldeschluss Vorkampf Vorderladerschießen Kreisvergleichskämpfe
DESCRIPTION:
URL:https://bsvleimen.de/event/2-meldeschluss-vorkampf-vorderladerschiessen-kreisvergleichskaempfe/
LOCATION:BSV-Geschäftsstelle\, Badener Platz 2\, Leimen\, 69181\, Germany
CATEGORIES:Allgemein
END:VEVENT
BEGIN:VEVENT
DTSTART;VALUE=DATE:20250913
DTEND;VALUE=DATE:20250914
DTSTAMP:20260423T040435
CREATED:20250228T120343Z
LAST-MODIFIED:20250228T120343Z
UID:19586-1757721600-1757807999@bsvleimen.de
SUMMARY:Endkampf 50m Pistole Kreismannschaftskämpfe
DESCRIPTION:
URL:https://bsvleimen.de/event/endkampf-50m-pistole-kreismannschaftskaempfe/
LOCATION:SC Wolfartsweier\, Horbenloch 3\, Karlsruhe\, 76228\, Germany
CATEGORIES:Allgemein
END:VEVENT
BEGIN:VEVENT
DTSTART;VALUE=DATE:20250913
DTEND;VALUE=DATE:20250914
DTSTAMP:20260423T040435
CREATED:20250228T120343Z
LAST-MODIFIED:20250228T120343Z
UID:19583-1757721600-1757807999@bsvleimen.de
SUMMARY:Endkampf 25m Pistole Kreismannschaftskämpfe
DESCRIPTION:
URL:https://bsvleimen.de/event/endkampf-25m-pistole-kreismannschaftskaempfe/
LOCATION:SC Wolfartsweier\, Horbenloch 3\, Karlsruhe\, 76228\, Germany
CATEGORIES:Allgemein
END:VEVENT
BEGIN:VEVENT
DTSTART;VALUE=DATE:20250916
DTEND;VALUE=DATE:20250917
DTSTAMP:20260423T040435
CREATED:20250228T120343Z
LAST-MODIFIED:20250228T120343Z
UID:19588-1757980800-1758067199@bsvleimen.de
SUMMARY:Meldeschluss DM Blasrohr
DESCRIPTION:Meldungen an den DSB
URL:https://bsvleimen.de/event/meldeschluss-dm-blasrohr/
LOCATION:BSV-Geschäftsstelle\, Badener Platz 2\, Leimen\, 69181\, Germany
CATEGORIES:Allgemein
END:VEVENT
BEGIN:VEVENT
DTSTART;VALUE=DATE:20250919
DTEND;VALUE=DATE:20250921
DTSTAMP:20260423T040435
CREATED:20250228T120343Z
LAST-MODIFIED:20250228T120343Z
UID:19592-1758240000-1758412799@bsvleimen.de
SUMMARY:DM Ordonnanz/ UHR
DESCRIPTION:
URL:https://bsvleimen.de/event/dm-ordonnanz-uhr/
CATEGORIES:Allgemein
END:VEVENT
BEGIN:VEVENT
DTSTART;VALUE=DATE:20250919
DTEND;VALUE=DATE:20250922
DTSTAMP:20260423T040435
CREATED:20250228T120343Z
LAST-MODIFIED:20250228T120343Z
UID:19590-1758240000-1758499199@bsvleimen.de
SUMMARY:BJT Münster
DESCRIPTION:
URL:https://bsvleimen.de/event/bjt-muenster/
CATEGORIES:Allgemein
END:VEVENT
BEGIN:VEVENT
DTSTART;TZID=UTC:20250920T080000
DTEND;TZID=UTC:20250920T170000
DTSTAMP:20260423T040435
CREATED:20250708T171813Z
LAST-MODIFIED:20250708T171902Z
UID:20628-1758355200-1758387600@bsvleimen.de
SUMMARY:1. Wenkheimer Herbst Bogenturnier 2025
DESCRIPTION:Austragungsort:\n97956 Werbach – Wenkheim; Andreas-Kneucker-Straße\nbei der Turnhalle\nTermin :\nSamstag\, 20.Sept.2025\nBerechtigung :\nStartberechtigt sind Mitglieder in einem Schützen- oder Sportverein.\nMeldeschluss :\n01.09.2025\, 24:00 Uhr\nAnmeldung mit Angabe des Vereins\, Vereinsnummer\,\nVor- und Zunamen des Schützen\, Passnummer\, Geburtsjahr\, Bogenart per Mail an: turnier@zeller-bogensport.de
URL:https://bsvleimen.de/event/1-wenkheimer-herbst-bogenturnier-2025/
LOCATION:Bogenplatz Wenkheim\, Andreas-Kneucker-Straße\, Wehrbach-Wenkheim\, 97956\, Germany
CATEGORIES:Allgemein
END:VEVENT
BEGIN:VEVENT
DTSTART;TZID=UTC:20250927T093000
DTEND;TZID=UTC:20250927T170000
DTSTAMP:20260423T040435
CREATED:20250723T054002Z
LAST-MODIFIED:20250723T055327Z
UID:20752-1758965400-1758992400@bsvleimen.de
SUMMARY:Landesturnier B-Liste
DESCRIPTION:In Laudenbach wird folgende Disziplin geschossen: \n1.92.05 Selbstladegewehr GK 100m (Zeits.)
URL:https://bsvleimen.de/event/landesturnier-b-liste-6/
LOCATION:SSV Laudenbach\, Dr.-Werner-Freyberg-Straße 1\, Laudenbach\, 69514\, Germany
CATEGORIES:Wettkämpfe
END:VEVENT
BEGIN:VEVENT
DTSTART;TZID=UTC:20250928T093000
DTEND;TZID=UTC:20250928T170000
DTSTAMP:20260423T040435
CREATED:20250723T054732Z
LAST-MODIFIED:20250723T054732Z
UID:20758-1759051800-1759078800@bsvleimen.de
SUMMARY:Landesturnier B-Liste
DESCRIPTION:Folgende Disziplin wird in Laudenbach geschossen: \n1.92.20 Zielfernrohrgewehr KK Auflage 50m
URL:https://bsvleimen.de/event/landesturnier-b-liste-9/
LOCATION:SSV Laudenbach\, Dr.-Werner-Freyberg-Straße 1\, Laudenbach\, 69514\, Germany
CATEGORIES:Wettkämpfe
END:VEVENT
END:VCALENDAR