BEGIN:VCALENDAR
VERSION:2.0
PRODID:-//BSV Leimen - ECPv6.15.20//NONSGML v1.0//EN
CALSCALE:GREGORIAN
METHOD:PUBLISH
X-WR-CALNAME:BSV Leimen
X-ORIGINAL-URL:https://bsvleimen.de
X-WR-CALDESC:Veranstaltungen für BSV Leimen
REFRESH-INTERVAL;VALUE=DURATION:PT1H
X-Robots-Tag:noindex
X-PUBLISHED-TTL:PT1H
BEGIN:VTIMEZONE
TZID:Europe/Berlin
BEGIN:DAYLIGHT
TZOFFSETFROM:+0100
TZOFFSETTO:+0200
TZNAME:CEST
DTSTART:20250330T010000
END:DAYLIGHT
BEGIN:STANDARD
TZOFFSETFROM:+0200
TZOFFSETTO:+0100
TZNAME:CET
DTSTART:20251026T010000
END:STANDARD
BEGIN:DAYLIGHT
TZOFFSETFROM:+0100
TZOFFSETTO:+0200
TZNAME:CEST
DTSTART:20260329T010000
END:DAYLIGHT
BEGIN:STANDARD
TZOFFSETFROM:+0200
TZOFFSETTO:+0100
TZNAME:CET
DTSTART:20261025T010000
END:STANDARD
BEGIN:DAYLIGHT
TZOFFSETFROM:+0100
TZOFFSETTO:+0200
TZNAME:CEST
DTSTART:20270328T010000
END:DAYLIGHT
BEGIN:STANDARD
TZOFFSETFROM:+0200
TZOFFSETTO:+0100
TZNAME:CET
DTSTART:20271031T010000
END:STANDARD
END:VTIMEZONE
BEGIN:VTIMEZONE
TZID:UTC
BEGIN:STANDARD
TZOFFSETFROM:+0000
TZOFFSETTO:+0000
TZNAME:UTC
DTSTART:20240101T000000
END:STANDARD
END:VTIMEZONE
BEGIN:VEVENT
DTSTART;VALUE=DATE:20260414
DTEND;VALUE=DATE:20260415
DTSTAMP:20260422T140726
CREATED:20260223T074417Z
LAST-MODIFIED:20260223T075542Z
UID:22354-1776124800-1776211199@bsvleimen.de
SUMMARY:Meldeschluss LM Allgemein\, Lfd. Scheibe\, Feldarmbrust
DESCRIPTION:Meldeschluss
URL:https://bsvleimen.de/event/meldeschluss-lm-allgemein-lfd-scheibe-feldarmbrust/
CATEGORIES:Meldeschluss BSV
END:VEVENT
BEGIN:VEVENT
DTSTART;VALUE=DATE:20260331
DTEND;VALUE=DATE:20260401
DTSTAMP:20260422T140726
CREATED:20260223T073733Z
LAST-MODIFIED:20260223T073733Z
UID:22352-1774915200-1775001599@bsvleimen.de
SUMMARY:Meldeschluss zur LM Lichtschießen
DESCRIPTION:Meldungen an: sportmeldungen@bsvleimen.de \nüber das Meldeformular:\nMeldeformular-Lichtschiessen-2026-V2.0.xlsx
URL:https://bsvleimen.de/event/meldeschluss-zur-lm-lichtschiessen/
CATEGORIES:Meldeschluss BSV
END:VEVENT
BEGIN:VEVENT
DTSTART;TZID=UTC:20260206T080000
DTEND;TZID=UTC:20260208T170000
DTSTAMP:20260422T140726
CREATED:20250723T071219Z
LAST-MODIFIED:20250723T071225Z
UID:20776-1770364800-1770570000@bsvleimen.de
SUMMARY:Bundesliga Finale
DESCRIPTION:
URL:https://bsvleimen.de/event/bundeliga-finale/
CATEGORIES:Wettkämpfe
END:VEVENT
BEGIN:VEVENT
DTSTART;TZID=UTC:20260201T080000
DTEND;TZID=UTC:20260201T170000
DTSTAMP:20260422T140726
CREATED:20250723T072535Z
LAST-MODIFIED:20250723T072535Z
UID:20830-1769932800-1769965200@bsvleimen.de
SUMMARY:Landesliga LG/LP Wettkampf 7
DESCRIPTION:
URL:https://bsvleimen.de/event/landesliga-lg-lp-wettkampf-7/
CATEGORIES:Wettkämpfe
END:VEVENT
BEGIN:VEVENT
DTSTART;TZID=UTC:20260125T080000
DTEND;TZID=UTC:20260125T170000
DTSTAMP:20260422T140726
CREATED:20250723T072250Z
LAST-MODIFIED:20250723T072250Z
UID:20816-1769328000-1769360400@bsvleimen.de
SUMMARY:Oberliga LP/LG Wettkampf 7
DESCRIPTION:
URL:https://bsvleimen.de/event/oberliga-lp-lg-wettkampf-7/
CATEGORIES:Wettkämpfe
END:VEVENT
BEGIN:VEVENT
DTSTART;TZID=UTC:20260124T080000
DTEND;TZID=UTC:20260125T170000
DTSTAMP:20260422T140726
CREATED:20250723T071138Z
LAST-MODIFIED:20250723T071138Z
UID:20774-1769241600-1769360400@bsvleimen.de
SUMMARY:Aufstieg 1. Bundeliga
DESCRIPTION:
URL:https://bsvleimen.de/event/aufstieg-1-bundeliga/
CATEGORIES:Wettkämpfe
END:VEVENT
BEGIN:VEVENT
DTSTART;TZID=UTC:20260118T080000
DTEND;TZID=UTC:20260118T170000
DTSTAMP:20260422T140726
CREATED:20250723T072514Z
LAST-MODIFIED:20250723T072514Z
UID:20828-1768723200-1768755600@bsvleimen.de
SUMMARY:Landesliga LG/LP Wettkampf 6
DESCRIPTION:
URL:https://bsvleimen.de/event/landesliga-lg-lp-wettkampf-6/
CATEGORIES:Wettkämpfe
END:VEVENT
BEGIN:VEVENT
DTSTART;TZID=UTC:20260117T080000
DTEND;TZID=UTC:20260117T170000
DTSTAMP:20260422T140726
CREATED:20250723T072712Z
LAST-MODIFIED:20250723T072712Z
UID:20838-1768636800-1768669200@bsvleimen.de
SUMMARY:Badische-Jugend-Liga
DESCRIPTION:
URL:https://bsvleimen.de/event/badische-jugend-liga-4/
CATEGORIES:Wettkämpfe
END:VEVENT
BEGIN:VEVENT
DTSTART;TZID=UTC:20260111T080000
DTEND;TZID=UTC:20260111T170000
DTSTAMP:20260422T140726
CREATED:20250723T072452Z
LAST-MODIFIED:20250723T072452Z
UID:20826-1768118400-1768150800@bsvleimen.de
SUMMARY:Landesliga LG/LP Wettkampf 5
DESCRIPTION:
URL:https://bsvleimen.de/event/landesliga-lg-lp-wettkampf-5/
CATEGORIES:Wettkämpfe
END:VEVENT
BEGIN:VEVENT
DTSTART;TZID=UTC:20260111T080000
DTEND;TZID=UTC:20260111T170000
DTSTAMP:20260422T140726
CREATED:20250723T071919Z
LAST-MODIFIED:20250723T071919Z
UID:20800-1768118400-1768150800@bsvleimen.de
SUMMARY:2. Bundesliga LG
DESCRIPTION:
URL:https://bsvleimen.de/event/2-bundesliga-lg-4/
CATEGORIES:Wettkämpfe
END:VEVENT
BEGIN:VEVENT
DTSTART;TZID=UTC:20260111T080000
DTEND;TZID=UTC:20260111T170000
DTSTAMP:20260422T140726
CREATED:20250723T071751Z
LAST-MODIFIED:20250723T071816Z
UID:20797-1768118400-1768150800@bsvleimen.de
SUMMARY:2. Bundesliga LG
DESCRIPTION:
URL:https://bsvleimen.de/event/3-bundesliga-lg/
CATEGORIES:Wettkämpfe
END:VEVENT
BEGIN:VEVENT
DTSTART;TZID=UTC:20260110T080000
DTEND;TZID=UTC:20260111T170000
DTSTAMP:20260422T140726
CREATED:20250723T071057Z
LAST-MODIFIED:20250723T071057Z
UID:20772-1768032000-1768150800@bsvleimen.de
SUMMARY:1. Bundesliga LG
DESCRIPTION:
URL:https://bsvleimen.de/event/1-bundesliga-lg-6/
CATEGORIES:Wettkämpfe
END:VEVENT
BEGIN:VEVENT
DTSTART;TZID=UTC:20260104T080000
DTEND;TZID=UTC:20260104T170000
DTSTAMP:20260422T140726
CREATED:20250723T072049Z
LAST-MODIFIED:20250723T072049Z
UID:20808-1767513600-1767546000@bsvleimen.de
SUMMARY:2. Bundesliga LP
DESCRIPTION:
URL:https://bsvleimen.de/event/2-bundesliga-lp-4/
CATEGORIES:Wettkämpfe
END:VEVENT
BEGIN:VEVENT
DTSTART;TZID=UTC:20260103T080000
DTEND;TZID=UTC:20260104T170000
DTSTAMP:20260422T140726
CREATED:20250723T071609Z
LAST-MODIFIED:20250723T071609Z
UID:20789-1767427200-1767546000@bsvleimen.de
SUMMARY:1. Bundesliga LP
DESCRIPTION:
URL:https://bsvleimen.de/event/1-bundesliga-lp-6/
CATEGORIES:Wettkämpfe
END:VEVENT
BEGIN:VEVENT
DTSTART;TZID=UTC:20251214T080000
DTEND;TZID=UTC:20251214T170000
DTSTAMP:20260422T140726
CREATED:20250723T072228Z
LAST-MODIFIED:20250723T072228Z
UID:20814-1765699200-1765731600@bsvleimen.de
SUMMARY:Oberliga LP/LG Wettkampf 5+6
DESCRIPTION:
URL:https://bsvleimen.de/event/oberliga-lp-lg-wettkampf-56/
CATEGORIES:Wettkämpfe
END:VEVENT
BEGIN:VEVENT
DTSTART;TZID=UTC:20251213T080000
DTEND;TZID=UTC:20251213T170000
DTSTAMP:20260422T140726
CREATED:20250723T072652Z
LAST-MODIFIED:20250723T072652Z
UID:20836-1765612800-1765645200@bsvleimen.de
SUMMARY:Badische-Jugend-Liga
DESCRIPTION:
URL:https://bsvleimen.de/event/badische-jugend-liga-3/
CATEGORIES:Wettkämpfe
END:VEVENT
BEGIN:VEVENT
DTSTART;TZID=UTC:20251207T080000
DTEND;TZID=UTC:20251207T170000
DTSTAMP:20260422T140726
CREATED:20250723T071725Z
LAST-MODIFIED:20250723T071725Z
UID:20795-1765094400-1765126800@bsvleimen.de
SUMMARY:2. Bundesliga LG
DESCRIPTION:
URL:https://bsvleimen.de/event/2-bundesliga-lg-3/
CATEGORIES:Wettkämpfe
END:VEVENT
BEGIN:VEVENT
DTSTART;TZID=UTC:20251206T080000
DTEND;TZID=UTC:20251207T170000
DTSTAMP:20260422T140726
CREATED:20250723T071019Z
LAST-MODIFIED:20250723T071019Z
UID:20770-1765008000-1765126800@bsvleimen.de
SUMMARY:1. Bundesliga LG
DESCRIPTION:
URL:https://bsvleimen.de/event/1-bundesliga-lg-5/
CATEGORIES:Wettkämpfe
END:VEVENT
BEGIN:VEVENT
DTSTART;TZID=UTC:20251130T080000
DTEND;TZID=UTC:20251130T170000
DTSTAMP:20260422T140726
CREATED:20250723T072430Z
LAST-MODIFIED:20250723T072430Z
UID:20824-1764489600-1764522000@bsvleimen.de
SUMMARY:Landesliga LG/LP Wettkampf 4
DESCRIPTION:
URL:https://bsvleimen.de/event/landesliga-lg-lp-wettkampf-4/
CATEGORIES:Wettkämpfe
END:VEVENT
BEGIN:VEVENT
DTSTART;TZID=UTC:20251130T080000
DTEND;TZID=UTC:20251130T170000
DTSTAMP:20260422T140726
CREATED:20250723T072025Z
LAST-MODIFIED:20250723T072025Z
UID:20806-1764489600-1764522000@bsvleimen.de
SUMMARY:2. Bundesliga LP
DESCRIPTION:
URL:https://bsvleimen.de/event/2-bundesliga-lp-3/
CATEGORIES:Wettkämpfe
END:VEVENT
BEGIN:VEVENT
DTSTART;TZID=UTC:20251129T080000
DTEND;TZID=UTC:20251130T170000
DTSTAMP:20260422T140726
CREATED:20250723T071538Z
LAST-MODIFIED:20250723T071538Z
UID:20787-1764403200-1764522000@bsvleimen.de
SUMMARY:1. Bundesliga LP
DESCRIPTION:
URL:https://bsvleimen.de/event/1-bundesliga-lp-5/
CATEGORIES:Wettkämpfe
END:VEVENT
BEGIN:VEVENT
DTSTART;TZID=UTC:20251122T080000
DTEND;TZID=UTC:20251122T170000
DTSTAMP:20260422T140726
CREATED:20250723T072413Z
LAST-MODIFIED:20250723T072413Z
UID:20822-1763798400-1763830800@bsvleimen.de
SUMMARY:Landesliga LG/LP Wettkampf 3
DESCRIPTION:
URL:https://bsvleimen.de/event/landesliga-lg-lp-wettkampf-3/
CATEGORIES:Wettkämpfe
END:VEVENT
BEGIN:VEVENT
DTSTART;TZID=UTC:20251122T080000
DTEND;TZID=UTC:20251122T170000
DTSTAMP:20260422T140726
CREATED:20250723T070943Z
LAST-MODIFIED:20250723T070943Z
UID:20768-1763798400-1763830800@bsvleimen.de
SUMMARY:1. Bundesliga LG
DESCRIPTION:
URL:https://bsvleimen.de/event/1-bundesliga-lg-4/
CATEGORIES:Wettkämpfe
END:VEVENT
BEGIN:VEVENT
DTSTART;TZID=UTC:20251115T080000
DTEND;TZID=UTC:20251115T170000
DTSTAMP:20260422T140726
CREATED:20250723T072202Z
LAST-MODIFIED:20250723T072202Z
UID:20812-1763193600-1763226000@bsvleimen.de
SUMMARY:Oberliga LP/LG Wettkampf 3+4
DESCRIPTION:
URL:https://bsvleimen.de/event/oberliga-lp-lg-wettkampf-34/
CATEGORIES:Wettkämpfe
END:VEVENT
BEGIN:VEVENT
DTSTART;TZID=UTC:20251115T080000
DTEND;TZID=UTC:20251115T170000
DTSTAMP:20260422T140726
CREATED:20250723T071422Z
LAST-MODIFIED:20250723T071422Z
UID:20785-1763193600-1763226000@bsvleimen.de
SUMMARY:1. Bundesliga LP
DESCRIPTION:
URL:https://bsvleimen.de/event/1-bundesliga-lp-4/
CATEGORIES:Wettkämpfe
END:VEVENT
BEGIN:VEVENT
DTSTART;VALUE=DATE:20251115
DTEND;VALUE=DATE:20251116
DTSTAMP:20260422T140726
CREATED:20250228T120342Z
LAST-MODIFIED:20250228T120342Z
UID:19606-1763164800-1763251199@bsvleimen.de
SUMMARY:Landeskönigsball
DESCRIPTION:
URL:https://bsvleimen.de/event/landeskoenigsball/
CATEGORIES:Allgemein
END:VEVENT
BEGIN:VEVENT
DTSTART;TZID=UTC:20251109T093000
DTEND;TZID=UTC:20251109T170000
DTSTAMP:20260422T140726
CREATED:20250723T055120Z
LAST-MODIFIED:20250723T055120Z
UID:20760-1762680600-1762707600@bsvleimen.de
SUMMARY:Landesturnier B-Liste
DESCRIPTION:Folgende Disziplin wird in Stebbach geschossen: \n3.01.04 Flinte 50 m (in 25 m ausgetragen)
URL:https://bsvleimen.de/event/landesturnier-b-liste-10/
LOCATION:KKS Stebbach\, Zum Schützenhaus 1\, Gemmingen Ot. Stebbach\, 75050\, Germany
CATEGORIES:Wettkämpfe
END:VEVENT
BEGIN:VEVENT
DTSTART;TZID=UTC:20251109T080000
DTEND;TZID=UTC:20251109T170000
DTSTAMP:20260422T140726
CREATED:20250723T072352Z
LAST-MODIFIED:20250723T072352Z
UID:20820-1762675200-1762707600@bsvleimen.de
SUMMARY:Landesliga LG/LP Wettkampf 2
DESCRIPTION:
URL:https://bsvleimen.de/event/landesliga-lg-lp-wettkampf-2/
CATEGORIES:Wettkämpfe
END:VEVENT
BEGIN:VEVENT
DTSTART;TZID=UTC:20251109T080000
DTEND;TZID=UTC:20251109T170000
DTSTAMP:20260422T140726
CREATED:20250723T071705Z
LAST-MODIFIED:20250723T071705Z
UID:20793-1762675200-1762707600@bsvleimen.de
SUMMARY:2. Bundesliga LG
DESCRIPTION:
URL:https://bsvleimen.de/event/2-bundesliga-lg-2/
CATEGORIES:Wettkämpfe
END:VEVENT
BEGIN:VEVENT
DTSTART;TZID=UTC:20251108T100000
DTEND;TZID=UTC:20251108T170000
DTSTAMP:20260422T140726
CREATED:20250723T052901Z
LAST-MODIFIED:20250723T052920Z
UID:20730-1762596000-1762621200@bsvleimen.de
SUMMARY:Landesturnier B-Liste
DESCRIPTION:In Stebbach werden folgende Disziplinen ausgetragen: \nBD 2.41.01 SpoPi beidhändig\nBD 2.53.01 GK Pistole/Revolver\nBD 2.52.03 Dienstrevolver\nBD 2.53.02 Speed (KW\, PCC\, AS)
URL:https://bsvleimen.de/event/landesturnier-b-liste/
LOCATION:KKS Stebbach\, Zum Schützenhaus 1\, Gemmingen Ot. Stebbach\, 75050\, Germany
CATEGORIES:Wettkämpfe
END:VEVENT
END:VCALENDAR