BEGIN:VCALENDAR
VERSION:2.0
PRODID:-//BSV Leimen - ECPv6.15.20//NONSGML v1.0//EN
CALSCALE:GREGORIAN
METHOD:PUBLISH
X-WR-CALNAME:BSV Leimen
X-ORIGINAL-URL:https://bsvleimen.de
X-WR-CALDESC:Veranstaltungen für BSV Leimen
REFRESH-INTERVAL;VALUE=DURATION:PT1H
X-Robots-Tag:noindex
X-PUBLISHED-TTL:PT1H
BEGIN:VTIMEZONE
TZID:UTC
BEGIN:STANDARD
TZOFFSETFROM:+0000
TZOFFSETTO:+0000
TZNAME:UTC
DTSTART:20240101T000000
END:STANDARD
END:VTIMEZONE
BEGIN:VEVENT
DTSTART;TZID=UTC:20251108T080000
DTEND;TZID=UTC:20251109T170000
DTSTAMP:20260423T004944
CREATED:20250723T070740Z
LAST-MODIFIED:20250723T070857Z
UID:20766-1762588800-1762707600@bsvleimen.de
SUMMARY:1. Bundesliga LG
DESCRIPTION:
URL:https://bsvleimen.de/event/1-bundesliga-lg-3/
CATEGORIES:Wettkämpfe
END:VEVENT
BEGIN:VEVENT
DTSTART;TZID=UTC:20251109T080000
DTEND;TZID=UTC:20251109T170000
DTSTAMP:20260423T004944
CREATED:20250723T071705Z
LAST-MODIFIED:20250723T071705Z
UID:20793-1762675200-1762707600@bsvleimen.de
SUMMARY:2. Bundesliga LG
DESCRIPTION:
URL:https://bsvleimen.de/event/2-bundesliga-lg-2/
CATEGORIES:Wettkämpfe
END:VEVENT
BEGIN:VEVENT
DTSTART;TZID=UTC:20251109T080000
DTEND;TZID=UTC:20251109T170000
DTSTAMP:20260423T004944
CREATED:20250723T072352Z
LAST-MODIFIED:20250723T072352Z
UID:20820-1762675200-1762707600@bsvleimen.de
SUMMARY:Landesliga LG/LP Wettkampf 2
DESCRIPTION:
URL:https://bsvleimen.de/event/landesliga-lg-lp-wettkampf-2/
CATEGORIES:Wettkämpfe
END:VEVENT
BEGIN:VEVENT
DTSTART;TZID=UTC:20251109T093000
DTEND;TZID=UTC:20251109T170000
DTSTAMP:20260423T004944
CREATED:20250723T055120Z
LAST-MODIFIED:20250723T055120Z
UID:20760-1762680600-1762707600@bsvleimen.de
SUMMARY:Landesturnier B-Liste
DESCRIPTION:Folgende Disziplin wird in Stebbach geschossen: \n3.01.04 Flinte 50 m (in 25 m ausgetragen)
URL:https://bsvleimen.de/event/landesturnier-b-liste-10/
LOCATION:KKS Stebbach\, Zum Schützenhaus 1\, Gemmingen Ot. Stebbach\, 75050\, Germany
CATEGORIES:Wettkämpfe
END:VEVENT
END:VCALENDAR