BEGIN:VCALENDAR
VERSION:2.0
PRODID:-//BSV Leimen - ECPv6.15.20//NONSGML v1.0//EN
CALSCALE:GREGORIAN
METHOD:PUBLISH
X-WR-CALNAME:BSV Leimen
X-ORIGINAL-URL:https://bsvleimen.de
X-WR-CALDESC:Veranstaltungen für BSV Leimen
REFRESH-INTERVAL;VALUE=DURATION:PT1H
X-Robots-Tag:noindex
X-PUBLISHED-TTL:PT1H
BEGIN:VTIMEZONE
TZID:UTC
BEGIN:STANDARD
TZOFFSETFROM:+0000
TZOFFSETTO:+0000
TZNAME:UTC
DTSTART:20240101T000000
END:STANDARD
END:VTIMEZONE
BEGIN:VEVENT
DTSTART;TZID=UTC:20250927T093000
DTEND;TZID=UTC:20250927T170000
DTSTAMP:20260423T035143
CREATED:20250723T054002Z
LAST-MODIFIED:20250723T055327Z
UID:20752-1758965400-1758992400@bsvleimen.de
SUMMARY:Landesturnier B-Liste
DESCRIPTION:In Laudenbach wird folgende Disziplin geschossen: \n1.92.05 Selbstladegewehr GK 100m (Zeits.)
URL:https://bsvleimen.de/event/landesturnier-b-liste-6/
LOCATION:SSV Laudenbach\, Dr.-Werner-Freyberg-Straße 1\, Laudenbach\, 69514\, Germany
CATEGORIES:Wettkämpfe
END:VEVENT
END:VCALENDAR