BEGIN:VCALENDAR
VERSION:2.0
PRODID:-//BSV Leimen - ECPv6.15.20//NONSGML v1.0//EN
CALSCALE:GREGORIAN
METHOD:PUBLISH
X-WR-CALNAME:BSV Leimen
X-ORIGINAL-URL:https://bsvleimen.de
X-WR-CALDESC:Veranstaltungen für BSV Leimen
REFRESH-INTERVAL;VALUE=DURATION:PT1H
X-Robots-Tag:noindex
X-PUBLISHED-TTL:PT1H
BEGIN:VTIMEZONE
TZID:UTC
BEGIN:STANDARD
TZOFFSETFROM:+0000
TZOFFSETTO:+0000
TZNAME:UTC
DTSTART:20240101T000000
END:STANDARD
END:VTIMEZONE
BEGIN:VEVENT
DTSTART;VALUE=DATE:20250916
DTEND;VALUE=DATE:20250917
DTSTAMP:20260423T035724
CREATED:20250228T120343Z
LAST-MODIFIED:20250228T120343Z
UID:19588-1757980800-1758067199@bsvleimen.de
SUMMARY:Meldeschluss DM Blasrohr
DESCRIPTION:Meldungen an den DSB
URL:https://bsvleimen.de/event/meldeschluss-dm-blasrohr/
LOCATION:BSV-Geschäftsstelle\, Badener Platz 2\, Leimen\, 69181\, Germany
CATEGORIES:Allgemein
END:VEVENT
END:VCALENDAR