BEGIN:VCALENDAR
VERSION:2.0
PRODID:-//BSV Leimen - ECPv6.15.20//NONSGML v1.0//EN
CALSCALE:GREGORIAN
METHOD:PUBLISH
X-WR-CALNAME:BSV Leimen
X-ORIGINAL-URL:https://bsvleimen.de
X-WR-CALDESC:Veranstaltungen für BSV Leimen
REFRESH-INTERVAL;VALUE=DURATION:PT1H
X-Robots-Tag:noindex
X-PUBLISHED-TTL:PT1H
BEGIN:VTIMEZONE
TZID:UTC
BEGIN:STANDARD
TZOFFSETFROM:+0000
TZOFFSETTO:+0000
TZNAME:UTC
DTSTART:20240101T000000
END:STANDARD
END:VTIMEZONE
BEGIN:VEVENT
DTSTART;VALUE=DATE:20250812
DTEND;VALUE=DATE:20250813
DTSTAMP:20260425T121956
CREATED:20250228T120344Z
LAST-MODIFIED:20250228T120344Z
UID:19562-1754956800-1755043199@bsvleimen.de
SUMMARY:Meldeschluss 2. Vorkampf 25m Pistole Kreismannschaftskämpfe
DESCRIPTION:
URL:https://bsvleimen.de/event/meldeschluss-2-vorkampf-25m-pistole-kreismannschaftskaempfe/
CATEGORIES:Allgemein
END:VEVENT
BEGIN:VEVENT
DTSTART;VALUE=DATE:20250812
DTEND;VALUE=DATE:20250813
DTSTAMP:20260425T121956
CREATED:20250228T120344Z
LAST-MODIFIED:20250228T120344Z
UID:19564-1754956800-1755043199@bsvleimen.de
SUMMARY:Meldeschluss 2. Vorkampf 50m Pistole Kreismannschaftskämpfe
DESCRIPTION:
URL:https://bsvleimen.de/event/meldeschluss-2-vorkampf-50m-pistole-kreismannschaftskaempfe/
LOCATION:BSV-Geschäftsstelle\, Badener Platz 2\, Leimen\, 69181\, Germany
CATEGORIES:Allgemein
END:VEVENT
BEGIN:VEVENT
DTSTART;VALUE=DATE:20250812
DTEND;VALUE=DATE:20250813
DTSTAMP:20260425T121956
CREATED:20250228T120950Z
LAST-MODIFIED:20250228T120950Z
UID:19560-1754956800-1755043199@bsvleimen.de
SUMMARY:3. Ergebnismeldung Rangliste GK RWK-Onlinemelder
DESCRIPTION:
URL:https://bsvleimen.de/event/3-ergebnismeldung-rangliste-gk-rwk-onlinemelder/
LOCATION:BSV-Geschäftsstelle\, Badener Platz 2\, Leimen\, 69181\, Germany
CATEGORIES:Allgemein
END:VEVENT
END:VCALENDAR