BEGIN:VCALENDAR
VERSION:2.0
PRODID:-//BSV Leimen - ECPv6.15.20//NONSGML v1.0//EN
CALSCALE:GREGORIAN
METHOD:PUBLISH
X-ORIGINAL-URL:https://bsvleimen.de
X-WR-CALDESC:Veranstaltungen für BSV Leimen
REFRESH-INTERVAL;VALUE=DURATION:PT1H
X-Robots-Tag:noindex
X-PUBLISHED-TTL:PT1H
BEGIN:VTIMEZONE
TZID:UTC
BEGIN:STANDARD
TZOFFSETFROM:+0000
TZOFFSETTO:+0000
TZNAME:UTC
DTSTART:20240101T000000
END:STANDARD
END:VTIMEZONE
BEGIN:VEVENT
DTSTART;VALUE=DATE:20250805
DTEND;VALUE=DATE:20250806
DTSTAMP:20260423T051608
CREATED:20250228T120950Z
LAST-MODIFIED:20250228T120950Z
UID:19577-1754352000-1754438399@bsvleimen.de
SUMMARY:Meldeschluss Seniorenschießen LG/LP Auflage
DESCRIPTION:Meldungen an : Sportmeldungen@bsvleimen.de \n 
URL:https://bsvleimen.de/event/meldeschluss-seniorenschiessen-lg-lp-auflage/
LOCATION:BSV-Geschäftsstelle\, Badener Platz 2\, Leimen\, 69181\, Germany
CATEGORIES:Allgemein
END:VEVENT
END:VCALENDAR