BEGIN:VCALENDAR
VERSION:2.0
PRODID:-//BSV Leimen - ECPv6.15.20//NONSGML v1.0//EN
CALSCALE:GREGORIAN
METHOD:PUBLISH
X-ORIGINAL-URL:https://bsvleimen.de
X-WR-CALDESC:Veranstaltungen für BSV Leimen
REFRESH-INTERVAL;VALUE=DURATION:PT1H
X-Robots-Tag:noindex
X-PUBLISHED-TTL:PT1H
BEGIN:VTIMEZONE
TZID:UTC
BEGIN:STANDARD
TZOFFSETFROM:+0000
TZOFFSETTO:+0000
TZNAME:UTC
DTSTART:20240101T000000
END:STANDARD
END:VTIMEZONE
BEGIN:VEVENT
DTSTART;VALUE=DATE:20250802
DTEND;VALUE=DATE:20250804
DTSTAMP:20260423T052545
CREATED:20250228T120950Z
LAST-MODIFIED:20250228T120950Z
UID:19551-1754092800-1754265599@bsvleimen.de
SUMMARY:LM KK-Gewehr Auflage
DESCRIPTION:
URL:https://bsvleimen.de/event/lm-kk-gewehr-auflage/
LOCATION:SV Eggenstein\, Kopfweg 8\, Eggenstein-Leopoldshafen\, 76344\, Germany
CATEGORIES:Allgemein
END:VEVENT
BEGIN:VEVENT
DTSTART;VALUE=DATE:20250802
DTEND;VALUE=DATE:20250804
DTSTAMP:20260423T052545
CREATED:20250228T120950Z
LAST-MODIFIED:20250228T120950Z
UID:19549-1754092800-1754265599@bsvleimen.de
SUMMARY:JVR Endkampf
DESCRIPTION:
URL:https://bsvleimen.de/event/jvr-endkampf/
CATEGORIES:Allgemein
END:VEVENT
END:VCALENDAR