BEGIN:VCALENDAR
VERSION:2.0
PRODID:-//BSV Leimen - ECPv6.15.20//NONSGML v1.0//EN
CALSCALE:GREGORIAN
METHOD:PUBLISH
X-WR-CALNAME:BSV Leimen
X-ORIGINAL-URL:https://bsvleimen.de
X-WR-CALDESC:Veranstaltungen für BSV Leimen
REFRESH-INTERVAL;VALUE=DURATION:PT1H
X-Robots-Tag:noindex
X-PUBLISHED-TTL:PT1H
BEGIN:VTIMEZONE
TZID:UTC
BEGIN:STANDARD
TZOFFSETFROM:+0000
TZOFFSETTO:+0000
TZNAME:UTC
DTSTART:20240101T000000
END:STANDARD
END:VTIMEZONE
BEGIN:VEVENT
DTSTART;VALUE=DATE:20250718
DTEND;VALUE=DATE:20250721
DTSTAMP:20260425T121803
CREATED:20250228T120951Z
LAST-MODIFIED:20250228T120951Z
UID:19527-1752796800-1753055999@bsvleimen.de
SUMMARY:DM Vorderlader
DESCRIPTION:Hannover und Wiesbaden
URL:https://bsvleimen.de/event/dm-vorderlader/
CATEGORIES:Allgemein
END:VEVENT
BEGIN:VEVENT
DTSTART;VALUE=DATE:20250720
DTEND;VALUE=DATE:20250721
DTSTAMP:20260425T121803
CREATED:20250228T120951Z
LAST-MODIFIED:20250228T120951Z
UID:19531-1752969600-1753055999@bsvleimen.de
SUMMARY:5. KK Rundenwettkampf
DESCRIPTION:
URL:https://bsvleimen.de/event/5-kk-rundenwettkampf/
CATEGORIES:Allgemein
END:VEVENT
BEGIN:VEVENT
DTSTART;VALUE=DATE:20250720
DTEND;VALUE=DATE:20250721
DTSTAMP:20260425T121803
CREATED:20250228T120951Z
LAST-MODIFIED:20250228T120951Z
UID:19535-1752969600-1753055999@bsvleimen.de
SUMMARY:LM GK-Unterhebelgewehr
DESCRIPTION:
URL:https://bsvleimen.de/event/lm-gk-unterhebelgewehr/
LOCATION:SV Neckarbischofsheim\, Heidäckersiedlung 25\, Neckarbischofsheim\, 74924\, Germany
CATEGORIES:Allgemein
END:VEVENT
END:VCALENDAR