BEGIN:VCALENDAR
VERSION:2.0
PRODID:-//BSV Leimen - ECPv6.15.20//NONSGML v1.0//EN
CALSCALE:GREGORIAN
METHOD:PUBLISH
X-ORIGINAL-URL:https://bsvleimen.de
X-WR-CALDESC:Veranstaltungen für BSV Leimen
REFRESH-INTERVAL;VALUE=DURATION:PT1H
X-Robots-Tag:noindex
X-PUBLISHED-TTL:PT1H
BEGIN:VTIMEZONE
TZID:UTC
BEGIN:STANDARD
TZOFFSETFROM:+0000
TZOFFSETTO:+0000
TZNAME:UTC
DTSTART:20240101T000000
END:STANDARD
END:VTIMEZONE
BEGIN:VEVENT
DTSTART;VALUE=DATE:20250718
DTEND;VALUE=DATE:20250721
DTSTAMP:20260425T122320
CREATED:20250228T120951Z
LAST-MODIFIED:20250228T120951Z
UID:19527-1752796800-1753055999@bsvleimen.de
SUMMARY:DM Vorderlader
DESCRIPTION:Hannover und Wiesbaden
URL:https://bsvleimen.de/event/dm-vorderlader/
CATEGORIES:Allgemein
END:VEVENT
BEGIN:VEVENT
DTSTART;VALUE=DATE:20250719
DTEND;VALUE=DATE:20250720
DTSTAMP:20260425T122320
CREATED:20250228T120951Z
LAST-MODIFIED:20250228T120951Z
UID:19529-1752883200-1752969599@bsvleimen.de
SUMMARY:Blasrohr Endkampf
DESCRIPTION:
URL:https://bsvleimen.de/event/blasrohr-endkampf/
CATEGORIES:Allgemein
END:VEVENT
BEGIN:VEVENT
DTSTART;VALUE=DATE:20250719
DTEND;VALUE=DATE:20250720
DTSTAMP:20260425T122320
CREATED:20250228T120951Z
LAST-MODIFIED:20250228T120951Z
UID:19533-1752883200-1752969599@bsvleimen.de
SUMMARY:LM Ordonnanz Gewehr 100m aufgel. Ge.
DESCRIPTION:Standort steht noch nicht fest!
URL:https://bsvleimen.de/event/lm-ordonnanz-gewehr-100m-aufgel-ge/
CATEGORIES:Allgemein
END:VEVENT
END:VCALENDAR