BEGIN:VCALENDAR
VERSION:2.0
PRODID:-//BSV Leimen - ECPv6.15.20//NONSGML v1.0//EN
CALSCALE:GREGORIAN
METHOD:PUBLISH
X-ORIGINAL-URL:https://bsvleimen.de
X-WR-CALDESC:Veranstaltungen für BSV Leimen
REFRESH-INTERVAL;VALUE=DURATION:PT1H
X-Robots-Tag:noindex
X-PUBLISHED-TTL:PT1H
BEGIN:VTIMEZONE
TZID:UTC
BEGIN:STANDARD
TZOFFSETFROM:+0000
TZOFFSETTO:+0000
TZNAME:UTC
DTSTART:20240101T000000
END:STANDARD
END:VTIMEZONE
BEGIN:VEVENT
DTSTART;VALUE=DATE:20250624
DTEND;VALUE=DATE:20250625
DTSTAMP:20260423T081937
CREATED:20250228T121010Z
LAST-MODIFIED:20250228T121010Z
UID:19475-1750723200-1750809599@bsvleimen.de
SUMMARY:Meldeschluss Blasrohr Cup
DESCRIPTION:Die Wertungsbögen müssen bis spätestens Dienstag der 26. KW eines jeden Jahres. (PDF) per E-Mail an\njugendmeldungen@bsvleimen.de eingereicht werden. Später eingehende Meldungen werden nicht\nberücksichtigt. \nMeldungen mit dem im Link verknüpften Formular melden. \nhttps://bsvleimen.de/wp-content/uploads/2024/07/Blasrohr-Meldebogen.xlsx \n 
URL:https://bsvleimen.de/event/meldeschluss-blasrohr-cup/
LOCATION:BSV-Geschäftsstelle\, Badener Platz 2\, Leimen\, 69181\, Germany
CATEGORIES:Allgemein
END:VEVENT
END:VCALENDAR