BEGIN:VCALENDAR
VERSION:2.0
PRODID:-//BSV Leimen - ECPv6.15.20//NONSGML v1.0//EN
CALSCALE:GREGORIAN
METHOD:PUBLISH
X-ORIGINAL-URL:https://bsvleimen.de
X-WR-CALDESC:Veranstaltungen für BSV Leimen
REFRESH-INTERVAL;VALUE=DURATION:PT1H
X-Robots-Tag:noindex
X-PUBLISHED-TTL:PT1H
BEGIN:VTIMEZONE
TZID:UTC
BEGIN:STANDARD
TZOFFSETFROM:+0000
TZOFFSETTO:+0000
TZNAME:UTC
DTSTART:20240101T000000
END:STANDARD
END:VTIMEZONE
BEGIN:VEVENT
DTSTART;VALUE=DATE:20250622
DTEND;VALUE=DATE:20250623
DTSTAMP:20260423T081814
CREATED:20250228T121010Z
LAST-MODIFIED:20250228T121010Z
UID:19469-1750550400-1750636799@bsvleimen.de
SUMMARY:2. BSV Rangliste Skeet
DESCRIPTION:Jeweils eingehend bei Mona Nicinska\nMail: mona.reichel@gmx.de
URL:https://bsvleimen.de/event/2-bsv-rangliste-skeet/
LOCATION:SG Pforzheim\, Am Kirschenpfad 1\, Pforzheim\, 75181
CATEGORIES:Allgemein
END:VEVENT
BEGIN:VEVENT
DTSTART;VALUE=DATE:20250622
DTEND;VALUE=DATE:20250623
DTSTAMP:20260423T081814
CREATED:20250228T121010Z
LAST-MODIFIED:20250228T121010Z
UID:19471-1750550400-1750636799@bsvleimen.de
SUMMARY:LM LG 3-Stellung\, KK 3x40\, 25m OSP Junioren
DESCRIPTION:
URL:https://bsvleimen.de/event/lm-lg-3-stellung-kk-3x40-25m-osp-junioren/
LOCATION:SSV Eberbach\, Rudolf-Epp-Straße 3\, Eberbach\, 69412\, Germany
CATEGORIES:Allgemein
END:VEVENT
BEGIN:VEVENT
DTSTART;VALUE=DATE:20250622
DTEND;VALUE=DATE:20250623
DTSTAMP:20260423T081814
CREATED:20250228T121010Z
LAST-MODIFIED:20250228T121010Z
UID:19473-1750550400-1750636799@bsvleimen.de
SUMMARY:LM LG Auflage\, KK-GEwehr Auflage 50m
DESCRIPTION:
URL:https://bsvleimen.de/event/lm-lg-auflage-kk-gewehr-auflage-50m/
LOCATION:SV Ettlingen\, Alte Steige 22\, Ettlingen\, 76275\, Germany
CATEGORIES:Allgemein
END:VEVENT
END:VCALENDAR