BEGIN:VCALENDAR
VERSION:2.0
PRODID:-//BSV Leimen - ECPv6.15.20//NONSGML v1.0//EN
CALSCALE:GREGORIAN
METHOD:PUBLISH
X-ORIGINAL-URL:https://bsvleimen.de
X-WR-CALDESC:Veranstaltungen für BSV Leimen
REFRESH-INTERVAL;VALUE=DURATION:PT1H
X-Robots-Tag:noindex
X-PUBLISHED-TTL:PT1H
BEGIN:VTIMEZONE
TZID:UTC
BEGIN:STANDARD
TZOFFSETFROM:+0000
TZOFFSETTO:+0000
TZNAME:UTC
DTSTART:20240101T000000
END:STANDARD
END:VTIMEZONE
BEGIN:VEVENT
DTSTART;VALUE=DATE:20250615
DTEND;VALUE=DATE:20250616
DTSTAMP:20260423T081914
CREATED:20250228T121032Z
LAST-MODIFIED:20250228T121032Z
UID:19455-1749945600-1750031999@bsvleimen.de
SUMMARY:LM LG\, 25m . 357 Mag\, .45 ACP\, KK 3x20\, KK Liegendkampf
DESCRIPTION:
URL:https://bsvleimen.de/event/lm-lg-25m-357-mag-45-acp-kk-3x20-kk-liegendkampf/
LOCATION:SG Pforzheim\, Am Kirschenpfad 1\, Pforzheim\, 75181
CATEGORIES:Allgemein
END:VEVENT
END:VCALENDAR